Package: philr Version: 1.33.0 Command: /Library/Frameworks/R.framework/Resources/bin/R CMD build --keep-empty-dirs --no-resave-data philr StartedAt: 2025-02-04 17:50:33 -0500 (Tue, 04 Feb 2025) EndedAt: 2025-02-04 17:51:21 -0500 (Tue, 04 Feb 2025) EllapsedTime: 48.0 seconds RetCode: 0 Status: OK PackageFile: philr_1.33.0.tar.gz PackageFileSize: 520.5 KiB