Package: philr Version: 1.33.0 Command: /home/biocbuild/bbs-3.21-bioc/R/bin/R CMD INSTALL philr StartedAt: 2025-02-09 15:10:34 -0500 (Sun, 09 Feb 2025) EndedAt: 2025-02-09 15:10:44 -0500 (Sun, 09 Feb 2025) EllapsedTime: 9.8 seconds RetCode: 0 Status: OK