Package: philr Version: 1.33.0 Command: chmod a+r philr -R && E:\biocbuild\bbs-3.21-bioc\R\bin\R.exe CMD build --keep-empty-dirs --no-resave-data philr StartedAt: 2025-02-04 20:46:34 -0500 (Tue, 04 Feb 2025) EndedAt: 2025-02-04 20:47:29 -0500 (Tue, 04 Feb 2025) EllapsedTime: 54.6 seconds RetCode: 0 Status: OK PackageFile: philr_1.33.0.tar.gz PackageFileSize: 324.1 KiB