Package: philr Version: 1.33.0 Command: E:\biocbuild\bbs-3.21-bioc\R\bin\R.exe CMD check --no-multiarch --install=check:philr.install-out.txt --library=E:\biocbuild\bbs-3.21-bioc\R\library --no-vignettes --timings philr_1.33.0.tar.gz StartedAt: 2025-02-05 04:29:46 -0500 (Wed, 05 Feb 2025) EndedAt: 2025-02-05 04:31:38 -0500 (Wed, 05 Feb 2025) EllapsedTime: 112.1 seconds RetCode: 0 Status: OK CheckDir: philr.Rcheck Warnings: 0