Package: phosphonormalizer Version: 1.31.0 Command: /home/biocbuild/R/R/bin/R CMD build --keep-empty-dirs --no-resave-data phosphonormalizer StartedAt: 2025-01-29 01:16:50 -0000 (Wed, 29 Jan 2025) EndedAt: 2025-01-29 01:17:01 -0000 (Wed, 29 Jan 2025) EllapsedTime: 11.0 seconds RetCode: 0 Status: OK PackageFile: phosphonormalizer_1.31.0.tar.gz PackageFileSize: 2.677 MiB