Package: phosphonormalizer Version: 1.31.0 Command: /Library/Frameworks/R.framework/Resources/bin/R CMD INSTALL phosphonormalizer StartedAt: 2025-02-12 15:05:44 -0500 (Wed, 12 Feb 2025) EndedAt: 2025-02-12 15:06:04 -0500 (Wed, 12 Feb 2025) EllapsedTime: 19.9 seconds RetCode: 0 Status: OK