Package: phosphonormalizer Version: 1.31.0 Command: /home/biocbuild/bbs-3.21-bioc/R/bin/R CMD INSTALL phosphonormalizer StartedAt: 2025-02-09 15:04:58 -0500 (Sun, 09 Feb 2025) EndedAt: 2025-02-09 15:05:08 -0500 (Sun, 09 Feb 2025) EllapsedTime: 9.5 seconds RetCode: 0 Status: OK