Package: phosphonormalizer Version: 1.31.0 Command: rm -rf phosphonormalizer.buildbin-libdir && mkdir phosphonormalizer.buildbin-libdir && E:\biocbuild\bbs-3.21-bioc\R\bin\R.exe CMD INSTALL --build --library=phosphonormalizer.buildbin-libdir phosphonormalizer_1.31.0.tar.gz StartedAt: 2025-02-05 08:34:52 -0500 (Wed, 05 Feb 2025) EndedAt: 2025-02-05 08:35:28 -0500 (Wed, 05 Feb 2025) EllapsedTime: 36.3 seconds RetCode: 0 Status: OK PackageFile: phosphonormalizer_1.31.0.zip PackageFileSize: 2.599 MiB