Package: phosphonormalizer Version: 1.31.0 Command: chmod a+r phosphonormalizer -R && E:\biocbuild\bbs-3.21-bioc\R\bin\R.exe CMD build --keep-empty-dirs --no-resave-data phosphonormalizer StartedAt: 2025-02-04 20:47:22 -0500 (Tue, 04 Feb 2025) EndedAt: 2025-02-04 20:47:36 -0500 (Tue, 04 Feb 2025) EllapsedTime: 14.5 seconds RetCode: 0 Status: OK PackageFile: phosphonormalizer_1.31.0.tar.gz PackageFileSize: 2.586 MiB