Package: phyloseq Version: 1.51.0 Command: /Library/Frameworks/R.framework/Resources/bin/R CMD build --keep-empty-dirs --no-resave-data phyloseq StartedAt: 2025-02-09 17:15:08 -0500 (Sun, 09 Feb 2025) EndedAt: 2025-02-09 17:15:46 -0500 (Sun, 09 Feb 2025) EllapsedTime: 38.5 seconds RetCode: 1 Status: ERROR PackageFile: None PackageFileSize: NA