Package: phyloseq Version: 1.51.0 Command: rm -rf phyloseq.buildbin-libdir && mkdir phyloseq.buildbin-libdir && /Users/biocbuild/BBS/utils/build-universal.sh phyloseq_1.51.0.tar.gz /Library/Frameworks/R.framework/Resources/bin/R phyloseq.buildbin-libdir StartedAt: 2025-02-10 01:08:14 -0500 (Mon, 10 Feb 2025) EndedAt: 2025-02-10 01:08:55 -0500 (Mon, 10 Feb 2025) EllapsedTime: 40.6 seconds RetCode: 0 Status: OK PackageFile: phyloseq_1.51.0.tgz PackageFileSize: 6.378 MiB