Package: phyloseq Version: 1.51.0 Command: /Library/Frameworks/R.framework/Resources/bin/R CMD build --keep-empty-dirs --no-resave-data phyloseq StartedAt: 2025-02-09 17:57:36 -0500 (Sun, 09 Feb 2025) EndedAt: 2025-02-09 17:59:28 -0500 (Sun, 09 Feb 2025) EllapsedTime: 112.2 seconds RetCode: 0 Status: OK PackageFile: phyloseq_1.51.0.tar.gz PackageFileSize: 6.043 MiB