Package: phyloseq Version: 1.51.0 Command: /home/biocbuild/bbs-3.21-bioc/R/bin/R CMD check --install=check:phyloseq.install-out.txt --library=/home/biocbuild/bbs-3.21-bioc/R/site-library --timings phyloseq_1.51.0.tar.gz StartedAt: 2025-02-10 01:18:40 -0500 (Mon, 10 Feb 2025) EndedAt: 2025-02-10 01:24:19 -0500 (Mon, 10 Feb 2025) EllapsedTime: 338.5 seconds RetCode: 0 Status: WARNINGS CheckDir: phyloseq.Rcheck Warnings: 1