Package: phyloseq Version: 1.51.0 Command: /home/biocbuild/bbs-3.21-bioc/R/bin/R CMD INSTALL phyloseq StartedAt: 2025-02-12 15:16:58 -0500 (Wed, 12 Feb 2025) EndedAt: 2025-02-12 15:17:23 -0500 (Wed, 12 Feb 2025) EllapsedTime: 25.3 seconds RetCode: 0 Status: OK