Package: phyloseq Version: 1.51.0 Command: E:\biocbuild\bbs-3.21-bioc\R\bin\R.exe CMD check --no-multiarch --install=check:phyloseq.install-out.txt --library=E:\biocbuild\bbs-3.21-bioc\R\library --no-vignettes --timings phyloseq_1.51.0.tar.gz StartedAt: 2025-02-10 04:05:34 -0500 (Mon, 10 Feb 2025) EndedAt: 2025-02-10 04:10:50 -0500 (Mon, 10 Feb 2025) EllapsedTime: 315.5 seconds RetCode: 0 Status: WARNINGS CheckDir: phyloseq.Rcheck Warnings: 1