Package: piano Version: 2.23.0 Command: _R_CHECK_FORCE_SUGGESTS_=0 /Library/Frameworks/R.framework/Resources/bin/R CMD check --install=check:piano.install-out.txt --library=/Library/Frameworks/R.framework/Resources/library --no-vignettes --timings piano_2.23.0.tar.gz StartedAt: 2025-02-09 20:39:57 -0500 (Sun, 09 Feb 2025) EndedAt: 2025-02-09 20:40:41 -0500 (Sun, 09 Feb 2025) EllapsedTime: 44.5 seconds RetCode: 0 Status: OK CheckDir: piano.Rcheck Warnings: 0