Package: piano Version: 2.23.0 Command: /Library/Frameworks/R.framework/Resources/bin/R CMD INSTALL piano StartedAt: 2025-02-09 15:19:29 -0500 (Sun, 09 Feb 2025) EndedAt: 2025-02-09 15:19:35 -0500 (Sun, 09 Feb 2025) EllapsedTime: 6.2 seconds RetCode: 0 Status: OK