Package: piano Version: 2.23.0 Command: /Library/Frameworks/R.framework/Resources/bin/R CMD INSTALL piano StartedAt: 2025-02-09 15:32:04 -0500 (Sun, 09 Feb 2025) EndedAt: 2025-02-09 15:32:25 -0500 (Sun, 09 Feb 2025) EllapsedTime: 20.7 seconds RetCode: 0 Status: OK