Package: piano Version: 2.23.0 Command: chmod a+r piano -R && E:\biocbuild\bbs-3.21-bioc\R\bin\R.exe CMD build --keep-empty-dirs --no-resave-data piano StartedAt: 2025-02-09 20:45:08 -0500 (Sun, 09 Feb 2025) EndedAt: 2025-02-09 20:46:02 -0500 (Sun, 09 Feb 2025) EllapsedTime: 54.0 seconds RetCode: 0 Status: OK PackageFile: piano_2.23.0.tar.gz PackageFileSize: 1.534 MiB