Package: pipeComp Version: 1.17.0 Command: /Library/Frameworks/R.framework/Resources/bin/R CMD build --keep-empty-dirs --no-resave-data pipeComp StartedAt: 2025-02-03 17:51:25 -0500 (Mon, 03 Feb 2025) EndedAt: 2025-02-03 17:52:06 -0500 (Mon, 03 Feb 2025) EllapsedTime: 41.5 seconds RetCode: 0 Status: OK PackageFile: pipeComp_1.17.0.tar.gz PackageFileSize: 4.006 MiB