Package: pipeComp Version: 1.17.0 Command: /home/biocbuild/R/R/bin/R CMD build --keep-empty-dirs --no-resave-data pipeComp StartedAt: 2025-01-29 01:17:35 -0000 (Wed, 29 Jan 2025) EndedAt: 2025-01-29 01:17:56 -0000 (Wed, 29 Jan 2025) EllapsedTime: 20.0 seconds RetCode: 1 Status: ERROR PackageFile: None PackageFileSize: NA