Package: pipeComp Version: 1.17.0 Command: /home/biocbuild/R/R/bin/R CMD INSTALL pipeComp StartedAt: 2025-01-29 20:31:14 -0000 (Wed, 29 Jan 2025) EndedAt: 2025-01-29 20:31:33 -0000 (Wed, 29 Jan 2025) EllapsedTime: 19.1 seconds RetCode: 1 Status: ERROR