Package: pipeComp Version: 1.17.0 Command: rm -rf pipeComp.buildbin-libdir && mkdir pipeComp.buildbin-libdir && /Users/biocbuild/BBS/utils/build-universal.sh pipeComp_1.17.0.tar.gz /Library/Frameworks/R.framework/Resources/bin/R pipeComp.buildbin-libdir StartedAt: 2025-02-04 00:48:41 -0500 (Tue, 04 Feb 2025) EndedAt: 2025-02-04 00:50:05 -0500 (Tue, 04 Feb 2025) EllapsedTime: 84.4 seconds RetCode: 0 Status: OK PackageFile: pipeComp_1.17.0.tgz PackageFileSize: 4.509 MiB