Package: pipeComp Version: 1.17.0 Command: /Library/Frameworks/R.framework/Resources/bin/R CMD check --install=check:pipeComp.install-out.txt --library=/Library/Frameworks/R.framework/Resources/library --no-vignettes --timings pipeComp_1.17.0.tar.gz StartedAt: 2025-02-03 22:27:46 -0500 (Mon, 03 Feb 2025) EndedAt: 2025-02-03 22:34:40 -0500 (Mon, 03 Feb 2025) EllapsedTime: 414.6 seconds RetCode: 0 Status: OK CheckDir: pipeComp.Rcheck Warnings: 0