Package: pipeComp Version: 1.17.0 Command: /home/biocbuild/bbs-3.21-bioc/R/bin/R CMD check --install=check:pipeComp.install-out.txt --library=/home/biocbuild/bbs-3.21-bioc/R/site-library --timings pipeComp_1.17.0.tar.gz StartedAt: 2025-02-04 01:26:55 -0500 (Tue, 04 Feb 2025) EndedAt: 2025-02-04 01:34:19 -0500 (Tue, 04 Feb 2025) EllapsedTime: 444.7 seconds RetCode: 0 Status: OK CheckDir: pipeComp.Rcheck Warnings: 0