Package: pipeComp Version: 1.17.0 Command: /home/biocbuild/bbs-3.21-bioc/R/bin/R CMD INSTALL pipeComp StartedAt: 2025-02-03 16:03:07 -0500 (Mon, 03 Feb 2025) EndedAt: 2025-02-03 16:04:05 -0500 (Mon, 03 Feb 2025) EllapsedTime: 58.0 seconds RetCode: 0 Status: OK