Package: pipeComp Version: 1.17.0 Command: rm -rf pipeComp.buildbin-libdir && mkdir pipeComp.buildbin-libdir && E:\biocbuild\bbs-3.21-bioc\R\bin\R.exe CMD INSTALL --build --library=pipeComp.buildbin-libdir pipeComp_1.17.0.tar.gz StartedAt: 2025-02-04 08:36:21 -0500 (Tue, 04 Feb 2025) EndedAt: 2025-02-04 08:37:58 -0500 (Tue, 04 Feb 2025) EllapsedTime: 97.6 seconds RetCode: 0 Status: OK PackageFile: pipeComp_1.17.0.zip PackageFileSize: 3.316 MiB