Package: pipeComp Version: 1.17.0 Command: E:\biocbuild\bbs-3.21-bioc\R\bin\R.exe CMD check --no-multiarch --install=check:pipeComp.install-out.txt --library=E:\biocbuild\bbs-3.21-bioc\R\library --no-vignettes --timings pipeComp_1.17.0.tar.gz StartedAt: 2025-02-04 04:33:57 -0500 (Tue, 04 Feb 2025) EndedAt: 2025-02-04 04:41:34 -0500 (Tue, 04 Feb 2025) EllapsedTime: 456.3 seconds RetCode: 0 Status: OK CheckDir: pipeComp.Rcheck Warnings: 0