Package: pipeComp Version: 1.17.0 Command: E:\biocbuild\bbs-3.21-bioc\R\bin\R.exe CMD INSTALL pipeComp StartedAt: 2025-02-03 17:03:59 -0500 (Mon, 03 Feb 2025) EndedAt: 2025-02-03 17:05:30 -0500 (Mon, 03 Feb 2025) EllapsedTime: 90.9 seconds RetCode: 0 Status: OK