Package: planet Version: 1.15.5 Maintainer: Victor Yuan MaintainerEmail: victor.2wy at gmail.com git_url: https://git.bioconductor.org/packages/planet git_branch: devel git_last_commit: faa2413 git_last_commit_date: 2025-02-01 23:37:04 -0500 (Sat, 01 Feb 2025)