Package: planet Version: 1.15.5 Command: /Library/Frameworks/R.framework/Resources/bin/R CMD check --install=check:planet.install-out.txt --library=/Library/Frameworks/R.framework/Resources/library --no-vignettes --timings planet_1.15.5.tar.gz StartedAt: 2025-02-09 20:40:43 -0500 (Sun, 09 Feb 2025) EndedAt: 2025-02-09 20:41:14 -0500 (Sun, 09 Feb 2025) EllapsedTime: 30.4 seconds RetCode: 0 Status: OK CheckDir: planet.Rcheck Warnings: 0