Package: planet Version: 1.15.0 Command: /home/biocbuild/R/R/bin/R CMD check --install=check:planet.install-out.txt --library=/home/biocbuild/R/R/site-library --no-vignettes --timings planet_1.15.0.tar.gz StartedAt: 2025-01-28 13:56:09 -0000 (Tue, 28 Jan 2025) EndedAt: 2025-01-28 13:56:47 -0000 (Tue, 28 Jan 2025) EllapsedTime: 37.0 seconds RetCode: 0 Status: OK CheckDir: planet.Rcheck Warnings: 0