Package: planet Version: 1.15.5 Command: /Library/Frameworks/R.framework/Resources/bin/R CMD build --keep-empty-dirs --no-resave-data planet StartedAt: 2025-02-09 17:58:13 -0500 (Sun, 09 Feb 2025) EndedAt: 2025-02-09 17:59:14 -0500 (Sun, 09 Feb 2025) EllapsedTime: 60.7 seconds RetCode: 0 Status: OK PackageFile: planet_1.15.5.tar.gz PackageFileSize: 2.859 MiB