Package: planet Version: 1.15.5 Command: /Library/Frameworks/R.framework/Resources/bin/R CMD INSTALL planet StartedAt: 2025-02-09 15:06:28 -0500 (Sun, 09 Feb 2025) EndedAt: 2025-02-09 15:06:51 -0500 (Sun, 09 Feb 2025) EllapsedTime: 23.0 seconds RetCode: 0 Status: OK