Package: planet Version: 1.15.5 Command: rm -rf planet.buildbin-libdir && mkdir planet.buildbin-libdir && E:\biocbuild\bbs-3.21-bioc\R\bin\R.exe CMD INSTALL --build --library=planet.buildbin-libdir planet_1.15.5.tar.gz StartedAt: 2025-02-04 08:36:37 -0500 (Tue, 04 Feb 2025) EndedAt: 2025-02-04 08:36:47 -0500 (Tue, 04 Feb 2025) EllapsedTime: 10.2 seconds RetCode: 0 Status: OK PackageFile: planet_1.15.5.zip PackageFileSize: 2.784 MiB