Package: planttfhunter Version: 1.7.0 Command: /home/biocbuild/R/R/bin/R CMD build --keep-empty-dirs --no-resave-data planttfhunter StartedAt: 2025-01-29 01:17:56 -0000 (Wed, 29 Jan 2025) EndedAt: 2025-01-29 01:18:41 -0000 (Wed, 29 Jan 2025) EllapsedTime: 45.0 seconds RetCode: 0 Status: OK PackageFile: planttfhunter_1.7.0.tar.gz PackageFileSize: 1015 KiB