Package: planttfhunter Version: 1.7.0 Command: /home/biocbuild/R/R/bin/R CMD INSTALL planttfhunter StartedAt: 2025-01-29 19:40:16 -0000 (Wed, 29 Jan 2025) EndedAt: 2025-01-29 19:40:47 -0000 (Wed, 29 Jan 2025) EllapsedTime: 31.6 seconds RetCode: 0 Status: OK