Package: planttfhunter Version: 1.7.0 Command: /home/biocbuild/bbs-3.21-bioc/R/bin/R CMD INSTALL planttfhunter StartedAt: 2025-02-09 15:56:00 -0500 (Sun, 09 Feb 2025) EndedAt: 2025-02-09 15:56:24 -0500 (Sun, 09 Feb 2025) EllapsedTime: 23.9 seconds RetCode: 0 Status: OK