Package: plasmut Version: 1.5.0 Command: /Library/Frameworks/R.framework/Resources/bin/R CMD build --keep-empty-dirs --no-resave-data plasmut StartedAt: 2025-02-09 17:15:44 -0500 (Sun, 09 Feb 2025) EndedAt: 2025-02-09 17:16:46 -0500 (Sun, 09 Feb 2025) EllapsedTime: 61.7 seconds RetCode: 0 Status: OK PackageFile: plasmut_1.5.0.tar.gz PackageFileSize: 337.8 KiB