Package: plasmut Version: 1.5.0 Command: /Library/Frameworks/R.framework/Resources/bin/R CMD INSTALL plasmut StartedAt: 2025-02-09 15:02:42 -0500 (Sun, 09 Feb 2025) EndedAt: 2025-02-09 15:02:44 -0500 (Sun, 09 Feb 2025) EllapsedTime: 1.9 seconds RetCode: 0 Status: OK