Package: plasmut Version: 1.5.0 Command: /home/biocbuild/R/R/bin/R CMD build --keep-empty-dirs --no-resave-data plasmut StartedAt: 2025-01-29 01:18:03 -0000 (Wed, 29 Jan 2025) EndedAt: 2025-01-29 01:21:08 -0000 (Wed, 29 Jan 2025) EllapsedTime: 185.1 seconds RetCode: 0 Status: OK PackageFile: plasmut_1.5.0.tar.gz PackageFileSize: 309.8 KiB