Package: plasmut Version: 1.5.0 Command: /home/biocbuild/R/R/bin/R CMD check --install=check:plasmut.install-out.txt --library=/home/biocbuild/R/R/site-library --no-vignettes --timings plasmut_1.5.0.tar.gz StartedAt: 2025-01-28 13:56:49 -0000 (Tue, 28 Jan 2025) EndedAt: 2025-01-28 13:57:18 -0000 (Tue, 28 Jan 2025) EllapsedTime: 29.0 seconds RetCode: 0 Status: OK CheckDir: plasmut.Rcheck Warnings: 0