Package: plasmut Version: 1.5.0 Command: /home/biocbuild/bbs-3.21-bioc/R/bin/R CMD build --keep-empty-dirs --no-resave-data plasmut StartedAt: 2025-02-09 18:40:33 -0500 (Sun, 09 Feb 2025) EndedAt: 2025-02-09 18:42:46 -0500 (Sun, 09 Feb 2025) EllapsedTime: 133.2 seconds RetCode: 0 Status: OK PackageFile: plasmut_1.5.0.tar.gz PackageFileSize: 359.8 KiB