Package: plasmut Version: 1.5.0 Command: rm -rf plasmut.buildbin-libdir && mkdir plasmut.buildbin-libdir && E:\biocbuild\bbs-3.21-bioc\R\bin\R.exe CMD INSTALL --build --library=plasmut.buildbin-libdir plasmut_1.5.0.tar.gz StartedAt: 2025-02-10 08:23:36 -0500 (Mon, 10 Feb 2025) EndedAt: 2025-02-10 08:23:43 -0500 (Mon, 10 Feb 2025) EllapsedTime: 7.1 seconds RetCode: 0 Status: OK PackageFile: plasmut_1.5.0.zip PackageFileSize: 290.9 KiB