Package: plgem Version: 1.79.0 Command: /Library/Frameworks/R.framework/Resources/bin/R CMD build --keep-empty-dirs --no-resave-data plgem StartedAt: 2025-02-03 17:51:56 -0500 (Mon, 03 Feb 2025) EndedAt: 2025-02-03 17:52:03 -0500 (Mon, 03 Feb 2025) EllapsedTime: 7.1 seconds RetCode: 0 Status: OK PackageFile: plgem_1.79.0.tar.gz PackageFileSize: 1.038 MiB