Package: plgem Version: 1.79.0 Command: rm -rf plgem.buildbin-libdir && mkdir plgem.buildbin-libdir && /Users/biocbuild/BBS/utils/build-universal.sh plgem_1.79.0.tar.gz /Library/Frameworks/R.framework/Resources/bin/R plgem.buildbin-libdir StartedAt: 2025-02-10 01:08:29 -0500 (Mon, 10 Feb 2025) EndedAt: 2025-02-10 01:08:36 -0500 (Mon, 10 Feb 2025) EllapsedTime: 7.0 seconds RetCode: 0 Status: OK PackageFile: plgem_1.79.0.tgz PackageFileSize: 1.118 MiB