Package: plgem Version: 1.79.0 Command: /Library/Frameworks/R.framework/Resources/bin/R CMD build --keep-empty-dirs --no-resave-data plgem StartedAt: 2025-02-09 17:58:17 -0500 (Sun, 09 Feb 2025) EndedAt: 2025-02-09 17:58:37 -0500 (Sun, 09 Feb 2025) EllapsedTime: 19.5 seconds RetCode: 0 Status: OK PackageFile: plgem_1.79.0.tar.gz PackageFileSize: 1.037 MiB