Package: plgem Version: 1.79.0 Command: /Library/Frameworks/R.framework/Resources/bin/R CMD check --install=check:plgem.install-out.txt --library=/Library/Frameworks/R.framework/Resources/library --no-vignettes --timings plgem_1.79.0.tar.gz StartedAt: 2025-02-03 22:28:29 -0500 (Mon, 03 Feb 2025) EndedAt: 2025-02-03 22:29:28 -0500 (Mon, 03 Feb 2025) EllapsedTime: 58.6 seconds RetCode: 0 Status: OK CheckDir: plgem.Rcheck Warnings: 0