Package: plgem Version: 1.79.0 Command: /Library/Frameworks/R.framework/Resources/bin/R CMD INSTALL plgem StartedAt: 2025-02-09 15:05:58 -0500 (Sun, 09 Feb 2025) EndedAt: 2025-02-09 15:06:37 -0500 (Sun, 09 Feb 2025) EllapsedTime: 38.3 seconds RetCode: 0 Status: OK