Package: plgem Version: 1.79.0 Command: /home/biocbuild/bbs-3.21-bioc/R/bin/R CMD build --keep-empty-dirs --no-resave-data plgem StartedAt: 2025-02-03 18:49:15 -0500 (Mon, 03 Feb 2025) EndedAt: 2025-02-03 18:49:30 -0500 (Mon, 03 Feb 2025) EllapsedTime: 15.0 seconds RetCode: 0 Status: OK PackageFile: plgem_1.79.0.tar.gz PackageFileSize: 1.037 MiB